BEGIN:VCALENDAR
VERSION:2.0
PRODID:-//South Asian Council for Social Services (SACSS) - ECPv6.15.20//NONSGML v1.0//EN
CALSCALE:GREGORIAN
METHOD:PUBLISH
X-ORIGINAL-URL:https://www.sacssny.org
X-WR-CALDESC:Events for South Asian Council for Social Services (SACSS)
REFRESH-INTERVAL;VALUE=DURATION:PT1H
X-Robots-Tag:noindex
X-PUBLISHED-TTL:PT1H
BEGIN:VTIMEZONE
TZID:UTC
BEGIN:STANDARD
TZOFFSETFROM:+0000
TZOFFSETTO:+0000
TZNAME:UTC
DTSTART:20230101T000000
END:STANDARD
END:VTIMEZONE
BEGIN:VEVENT
DTSTART;TZID=UTC:20240822T110000
DTEND;TZID=UTC:20240822T110000
DTSTAMP:20260419T161026
CREATED:20240821T102505Z
LAST-MODIFIED:20240918T103656Z
UID:12883-1724324400-1724324400@www.sacssny.org
SUMMARY:SACSS Workforce Development Program Celebrates Second Cohort of Graduates
DESCRIPTION:143-02 45th Ave. Flushing\, NY. \nWe are excited to announce the upcoming graduation ceremony for students in our sewing\, English\, and computer classes in SACSS’ Workforce Development program! Join us as we recognize their achievements and look forward to their future success in the workforce. \n \nThis will be the second cohort of graduates this year from the SACSS Workforce Development program\, which has been instrumental in preparing community members for success in various fields. \n \nSACSS’s English class has equipped students with strong communication skills\, enabling them to excel in interviews and presentations. Our women’s empowerment initiative\, Stitch with SACSS\, has provided valuable hands-on experience nurturing creativity and entrepreneurship. Meanwhile\, the computer class has empowered students with essential literacy and technical skills\, enhancing their competitiveness in today’s job market.
URL:https://www.sacssny.org/event/sacss-workforce-development-program-celebrates-second-cohort-of-graduates/
CATEGORIES:Daily Event
ATTACH;FMTTYPE=image/jpeg:https://www.sacssny.org/wp-content/uploads/2024/08/Celebrates-Second-Graduating1.jpg
END:VEVENT
END:VCALENDAR